BEGIN:VCALENDAR
VERSION:2.0
PRODID:-//CCParent - ECPv6.6.4.2//NONSGML v1.0//EN
CALSCALE:GREGORIAN
METHOD:PUBLISH
X-WR-CALNAME:CCParent
X-ORIGINAL-URL:https://ccparent.com
X-WR-CALDESC:Events for CCParent
REFRESH-INTERVAL;VALUE=DURATION:PT1H
X-Robots-Tag:noindex
X-PUBLISHED-TTL:PT1H
BEGIN:VTIMEZONE
TZID:America/Los_Angeles
BEGIN:DAYLIGHT
TZOFFSETFROM:-0800
TZOFFSETTO:-0700
TZNAME:PDT
DTSTART:20240310T100000
END:DAYLIGHT
BEGIN:STANDARD
TZOFFSETFROM:-0700
TZOFFSETTO:-0800
TZNAME:PST
DTSTART:20241103T090000
END:STANDARD
END:VTIMEZONE
BEGIN:VEVENT
DTSTART;TZID=America/Los_Angeles:20240301T090000
DTEND;TZID=America/Los_Angeles:20240301T170000
DTSTAMP:20260420T054532
CREATED:20240202T045439Z
LAST-MODIFIED:20240302T214326Z
UID:72232-1709283600-1709312400@ccparent.com
SUMMARY:Market in the Parc
DESCRIPTION:Join for this lively farmers market that celebrates the bounty of the Valley and the hard-working farmers who grow what we eat. 9 a.m.–2 p.m. Community Regional Medical Center\, 2210 E. Illinois Avenue\, Fresno. 314-6605
URL:https://ccparent.com/calendar-event/market-in-the-parc-82/
LOCATION:Community Regional Medical Center\, 2210 E. Illinois Ave.\, Fresno\, California\, 93701
END:VEVENT
BEGIN:VEVENT
DTSTART;TZID=America/Los_Angeles:20240301T100000
DTEND;TZID=America/Los_Angeles:20240301T100000
DTSTAMP:20260420T054532
CREATED:20240229T030422Z
LAST-MODIFIED:20240302T214327Z
UID:72312-1709287200-1709287200@ccparent.com
SUMMARY:CHOWCHILLA STAMPEDE!
DESCRIPTION:Families are invited to witness this historic cattle drive at 10 a.m. First beginning in 1958\, this event is the official openings for the Chowchilla Western Stampede events. Down Robertson Boulevard\, Chowchilla. 665-8615
URL:https://ccparent.com/calendar-event/chowchilla-stampede/
END:VEVENT
BEGIN:VEVENT
DTSTART;TZID=America/Los_Angeles:20240301T173000
DTEND;TZID=America/Los_Angeles:20240301T173000
DTSTAMP:20260420T054532
CREATED:20240202T045440Z
LAST-MODIFIED:20240302T214326Z
UID:72233-1709314200-1709314200@ccparent.com
SUMMARY:Beautiful: The Carole King Musical
DESCRIPTION:Beautiful is the inspiring tale about a girl who became King. This Tony and Grammy Award-winning musical phenomenon is filled with the songs you remember and a story you’ll never forget. Rated PG-13. Tickets: $45–$75. 5:30 p.m. Roger Rocka’s Dinner Theatre\, 1226 N. Wishon Avenue\, Fresno. 266-9494
URL:https://ccparent.com/calendar-event/beautiful-the-carole-king-musical-18/
END:VEVENT
BEGIN:VEVENT
DTSTART;TZID=America/Los_Angeles:20240301T193000
DTEND;TZID=America/Los_Angeles:20240301T193000
DTSTAMP:20260420T054532
CREATED:20240229T030422Z
LAST-MODIFIED:20240302T214327Z
UID:72311-1709321400-1709321400@ccparent.com
SUMMARY:12 ANGRY JURORS–REEDLEY
DESCRIPTION:Contemplate the huge responsibility of 12 ordinary people as they consider the guilt or innocence of a young man. Tickets: $21–$86. 7:30 p.m. Reedley River City Theater\, 1720 Tenth Street\, Reedley. 638-6500
URL:https://ccparent.com/calendar-event/12-angry-jurors-reedley/
END:VEVENT
BEGIN:VEVENT
DTSTART;TZID=America/Los_Angeles:20240301T193000
DTEND;TZID=America/Los_Angeles:20240301T193000
DTSTAMP:20260420T054532
CREATED:20240229T030422Z
LAST-MODIFIED:20240302T214327Z
UID:72313-1709321400-1709321400@ccparent.com
SUMMARY:HELLO\, DOLLY–CLOVIS
DESCRIPTION:This musical adaption is bursting with humor\, romance\, energetic dance\, and great songs! Tickets: $12–$14. 7:30 p.m. Mercedes Edwards Theater\, 902 Fifth Street\, Clovis. 327-1561
URL:https://ccparent.com/calendar-event/hello-dolly-clovis-2/
END:VEVENT
BEGIN:VEVENT
DTSTART;TZID=America/Los_Angeles:20240301T193000
DTEND;TZID=America/Los_Angeles:20240301T193000
DTSTAMP:20260420T054532
CREATED:20240229T030430Z
LAST-MODIFIED:20240302T214329Z
UID:72314-1709321400-1709321400@ccparent.com
SUMMARY:PUFFS
DESCRIPTION:Go on a fast-paced romp through the seven increasingly eventful years at a certain school of witchcraft and wizardry. Tickets: $8–$14. 7:30 p.m. Fresno City College\, 1101 E. University Avenue\, Fresno. 442-8221
URL:https://ccparent.com/calendar-event/puffs/
LOCATION:Fresno City College\, 1101 E. University Avenue\, Fresno\, California
END:VEVENT
BEGIN:VEVENT
DTSTART;TZID=America/Los_Angeles:20240301T193000
DTEND;TZID=America/Los_Angeles:20240301T193000
DTSTAMP:20260420T054532
CREATED:20240229T030431Z
LAST-MODIFIED:20240302T214329Z
UID:72315-1709321400-1709321400@ccparent.com
SUMMARY:SCHOOL GIRLS; OR\, THE AFRICAN MEAN GIRLS PLAY
DESCRIPTION:The reigning queen bee at Ghana’s most exclusive boarding school has her sights set on the Miss Global Universe pageant—until a new student arrives. This comedy explores the universal similarities (and glaring differences) teen girls face across the globe. Rated PG-13. 7:30 p.m. Tickets: $15–$21. Selma Arts Center\, 1935 High Street\, Selma. 891-2238
URL:https://ccparent.com/calendar-event/school-girls-or-the-african-mean-girls-play-5/
LOCATION:Selma Arts Center\, 1935 High Street\, Selma\, CA\, United States
END:VEVENT
BEGIN:VEVENT
DTSTART;TZID=America/Los_Angeles:20240301T200000
DTEND;TZID=America/Los_Angeles:20240301T200000
DTSTAMP:20260420T054532
CREATED:20240302T215015Z
LAST-MODIFIED:20240302T215015Z
UID:72560-1709323200-1709323200@ccparent.com
SUMMARY:Moon Over Buffalo
DESCRIPTION:Charlotte and George Hay are on tour in Buffalo in 1953 with a repertory consisting of Cyrano de Bergerac (the “revised\, one nostril version”) and Noel Coward’s Private Lives\, when they receive word that they might just have one last shot at stardom: Frank Capra is coming to town to see their matinee. Rated PG13
URL:https://ccparent.com/calendar-event/moon-over-buffalo/
LOCATION:2nd Space Theatre\, 928 E. Olive\, Fresno\, CA\, United States
END:VEVENT
BEGIN:VEVENT
DTSTART;TZID=America/Los_Angeles:20240302T070000
DTEND;TZID=America/Los_Angeles:20240302T120000
DTSTAMP:20260420T054532
CREATED:20240202T045448Z
LAST-MODIFIED:20240302T214344Z
UID:72238-1709362800-1709380800@ccparent.com
SUMMARY:Vineyard Farmers Market
DESCRIPTION:Shop for the finest quality\, locally-grown produce direct from the grower. Dedicated to providing a healthy shopping experience for parents all year! 7 a.m.–12 p.m. Blackstone and Shaw Avenues. 269-9343
URL:https://ccparent.com/calendar-event/vineyard-farmers-market-284/
END:VEVENT
BEGIN:VEVENT
DTSTART;TZID=America/Los_Angeles:20240302T080000
DTEND;TZID=America/Los_Angeles:20240302T113000
DTSTAMP:20260420T054532
CREATED:20240202T045449Z
LAST-MODIFIED:20240302T214344Z
UID:72239-1709366400-1709379000@ccparent.com
SUMMARY:Visalia Farmers Market
DESCRIPTION:Shop for fresh produce and visit local vendors from 8–11:30 a.m. Rain or shine! Main and Mooney\, 2231 W. Main Street\, Visalia. 730-6021
URL:https://ccparent.com/calendar-event/visalia-farmers-market-78/
END:VEVENT
BEGIN:VEVENT
DTSTART;TZID=America/Los_Angeles:20240302T090000
DTEND;TZID=America/Los_Angeles:20240302T113000
DTSTAMP:20260420T054532
CREATED:20240202T045447Z
LAST-MODIFIED:20240302T214330Z
UID:72237-1709370000-1709379000@ccparent.com
SUMMARY:Old Town Clovis Farmers Market
DESCRIPTION:Families are invited to shop for local produce in the open-air market in Old Town Clovis from 9–11:30 a.m. Weather permitting. Old Town Clovis\, Pollasky between Fifth and Bullard\, Clovis. 298-5774
URL:https://ccparent.com/calendar-event/old-town-clovis-farmers-market-194/
END:VEVENT
BEGIN:VEVENT
DTSTART;TZID=America/Los_Angeles:20240302T090000
DTEND;TZID=America/Los_Angeles:20240302T120000
DTSTAMP:20260420T054532
CREATED:20240302T040126Z
LAST-MODIFIED:20240302T214645Z
UID:72408-1709370000-1709380800@ccparent.com
SUMMARY:Kids Workshops at Home Depot
DESCRIPTION:Bring your mini-DIYer into Home Depot for a fun\, kids workshop from 9 a.m.–12 p.m. Free! Your local Home Depot. 294-9600
URL:https://ccparent.com/calendar-event/kids-workshops-at-home-depot-13/
END:VEVENT
BEGIN:VEVENT
DTSTART;TZID=America/Los_Angeles:20240302T100000
DTEND;TZID=America/Los_Angeles:20240302T140000
DTSTAMP:20260420T054532
CREATED:20240202T045449Z
LAST-MODIFIED:20240302T214344Z
UID:72240-1709373600-1709388000@ccparent.com
SUMMARY:Tesoro Viejo Farmers Market - Madera
DESCRIPTION:Find local farmers\, ranchers\, and artisans selling hand-picked products and high-quality goods from 10 a.m.–2 p.m. Weather permitting. Tesoro Viejo Town Center\, 4150 N. Town Center Boulevard\, Madera. 822-3375
URL:https://ccparent.com/calendar-event/tesoro-viejo-farmers-market-madera-93/
LOCATION:Tesoro Viejo Town Center\, 4150 Town Center Boulevard\, Madera\, California
END:VEVENT
BEGIN:VEVENT
DTSTART;TZID=America/Los_Angeles:20240302T100000
DTEND;TZID=America/Los_Angeles:20240302T140000
DTSTAMP:20260420T054532
CREATED:20240302T040141Z
LAST-MODIFIED:20240302T214659Z
UID:72411-1709373600-1709388000@ccparent.com
SUMMARY:Twinkle Twinkle Little Star–Visalia
DESCRIPTION:Head to the planetarium for a star-studded showing of We Are Stars. Tickets: $5. Planetarium & Science Center\, 11535 Avenue 264\, Visalia. 733-6300
URL:https://ccparent.com/calendar-event/twinkle-twinkle-little-star-visalia-7/
END:VEVENT
BEGIN:VEVENT
DTSTART;TZID=America/Los_Angeles:20240302T103000
DTEND;TZID=America/Los_Angeles:20240302T103000
DTSTAMP:20260420T054532
CREATED:20240302T040140Z
LAST-MODIFIED:20240302T214659Z
UID:72409-1709375400-1709375400@ccparent.com
SUMMARY:Maya Cares
DESCRIPTION:MAYA CARES Families are invited to join for a sensory-friendly movie today at 10:30 a.m. Entry is free for guests with special needs and companion tickets are $6. Maya Cinemas\, 3090 E. Campus Pointe Drive\, Fresno. 549-0005
URL:https://ccparent.com/calendar-event/maya-cares-124/
LOCATION:Maya Cinemas\, 3090 E. Campus Pointe Drive\, Fresno\, CA\, United States
END:VEVENT
BEGIN:VEVENT
DTSTART;TZID=America/Los_Angeles:20240302T110000
DTEND;TZID=America/Los_Angeles:20240302T110000
DTSTAMP:20260420T054532
CREATED:20240302T040141Z
LAST-MODIFIED:20240302T214659Z
UID:72410-1709377200-1709377200@ccparent.com
SUMMARY:Storytime at Petunia's
DESCRIPTION:STORYTIME AT PETUNIA’S  Kids ages 3–8 are invited for stories about winter animals along with puppets\, music\, and crafts at 11 a.m. Free! Petunia’s Place\, 6027 N. Palm Avenue\, Fresno. 438-1561
URL:https://ccparent.com/calendar-event/storytime-at-petunias-8/
LOCATION:Petunia’s Place\, 6027 N. Palm Avenue\, Fresno\, CA
END:VEVENT
BEGIN:VEVENT
DTSTART;TZID=America/Los_Angeles:20240302T113000
DTEND;TZID=America/Los_Angeles:20240302T123000
DTSTAMP:20260420T054532
CREATED:20240202T045442Z
LAST-MODIFIED:20240302T214329Z
UID:72235-1709379000-1709382600@ccparent.com
SUMMARY:Kids Club
DESCRIPTION:Enjoy this free opportunity for kids to learn in a fun\, interactive setting. Focusing on sustainability and living eco-friendly\, this program is designed to teach kids about the importance of living with a “green” mindset. 11:30 a.m.–12:30 p.m. Fashion Fair Mall\, 645 E. Shaw Avenue\, Fresno. 224-1591
URL:https://ccparent.com/calendar-event/kids-club-31/
LOCATION:Fashion Fair Mall\, 645 E. Shaw Avenue\, Fresno\, CA\, United States
END:VEVENT
BEGIN:VEVENT
DTSTART;TZID=America/Los_Angeles:20240302T140000
DTEND;TZID=America/Los_Angeles:20240302T140000
DTSTAMP:20260420T054532
CREATED:20240302T035354Z
LAST-MODIFIED:20240302T214616Z
UID:72396-1709388000-1709388000@ccparent.com
SUMMARY:HELLO\, DOLLY–CLOVIS
DESCRIPTION:This musical adaption is bursting with humor\, romance\, energetic dance\, and great songs! Tickets: $12–$14. 7:30 p.m. Mercedes Edwards Theater\, 902 Fifth Street\, Clovis. 327-1561
URL:https://ccparent.com/calendar-event/hello-dolly-clovis-4/
END:VEVENT
BEGIN:VEVENT
DTSTART;TZID=America/Los_Angeles:20240302T140000
DTEND;TZID=America/Los_Angeles:20240302T193000
DTSTAMP:20260420T054532
CREATED:20240302T040126Z
LAST-MODIFIED:20240302T214644Z
UID:72406-1709388000-1709407800@ccparent.com
SUMMARY:School Girls; Or\, The African Mean Girls Play
DESCRIPTION:SCHOOL GIRLS; OR\, THE AFRICAN MEAN GIRLS PLAY The reigning queen bee at Ghana’s most exclusive boarding school has her sights set on the Miss Global Universe pageant—until a new student arrives. This comedy explores the universal similarities (and glaring differences) teen girls face across the globe. Rated PG-13. 2 and 7:30 p.m. Tickets: $15–$21. Selma Arts Center\, 1935 High Street\, Selma. 891-2238
URL:https://ccparent.com/calendar-event/school-girls-or-the-african-mean-girls-play-6/
LOCATION:Selma Arts Center\, 1935 High Street\, Selma\, CA\, United States
END:VEVENT
BEGIN:VEVENT
DTSTART;TZID=America/Los_Angeles:20240302T173000
DTEND;TZID=America/Los_Angeles:20240302T173000
DTSTAMP:20260420T054532
CREATED:20240202T045449Z
LAST-MODIFIED:20240302T214344Z
UID:72241-1709400600-1709400600@ccparent.com
SUMMARY:Beautiful: The Carole King Musical
DESCRIPTION:Beautiful is the inspiring tale about a girl who became King. This Tony and Grammy Award-winning musical phenomenon is filled with the songs you remember and a story you’ll never forget. Rated PG-13. Tickets: $45–$75. 5:30 p.m. Roger Rocka’s Dinner Theatre\, 1226 N. Wishon Avenue\, Fresno. 266-9494
URL:https://ccparent.com/calendar-event/beautiful-the-carole-king-musical-19/
END:VEVENT
BEGIN:VEVENT
DTSTART;TZID=America/Los_Angeles:20240302T193000
DTEND;TZID=America/Los_Angeles:20240302T193000
DTSTAMP:20260420T054532
CREATED:20240302T034951Z
LAST-MODIFIED:20240302T214545Z
UID:72386-1709407800-1709407800@ccparent.com
SUMMARY:12 ANGRY JURORS–REEDLEY
DESCRIPTION:Contemplate the huge responsibility of 12 ordinary people as they consider the guilt or innocence of a young man. Tickets: $21–$86. 7:30 p.m. Reedley River City Theater\, 1720 Tenth Street\, Reedley. 638-6500
URL:https://ccparent.com/calendar-event/12-angry-jurors-reedley-2/
END:VEVENT
BEGIN:VEVENT
DTSTART;TZID=America/Los_Angeles:20240302T193000
DTEND;TZID=America/Los_Angeles:20240302T193000
DTSTAMP:20260420T054532
CREATED:20240302T035354Z
LAST-MODIFIED:20240302T214616Z
UID:72395-1709407800-1709407800@ccparent.com
SUMMARY:HELLO\, DOLLY–CLOVIS
DESCRIPTION:This musical adaption is bursting with humor\, romance\, energetic dance\, and great songs! Tickets: $12–$14. 7:30 p.m. Mercedes Edwards Theater\, 902 Fifth Street\, Clovis. 327-1561
URL:https://ccparent.com/calendar-event/hello-dolly-clovis-3/
END:VEVENT
BEGIN:VEVENT
DTSTART;TZID=America/Los_Angeles:20240302T193000
DTEND;TZID=America/Los_Angeles:20240302T193000
DTSTAMP:20260420T054532
CREATED:20240302T040113Z
LAST-MODIFIED:20240302T214629Z
UID:72401-1709407800-1709407800@ccparent.com
SUMMARY:PUFFS
DESCRIPTION:Go on a fast-paced romp through the seven increasingly eventful years at a certain school of witchcraft and wizardry. Tickets: $8–$14. 7:30 p.m. Fresno City College\, 1101 E. University Avenue\, Fresno. 442-8221
URL:https://ccparent.com/calendar-event/puffs-2/
LOCATION:Fresno City College\, 1101 E. University Avenue\, Fresno\, California
END:VEVENT
BEGIN:VEVENT
DTSTART;TZID=America/Los_Angeles:20240302T193000
DTEND;TZID=America/Los_Angeles:20240302T193000
DTSTAMP:20260420T054532
CREATED:20240302T040126Z
LAST-MODIFIED:20240302T214645Z
UID:72407-1709407800-1709407800@ccparent.com
SUMMARY:School Girls; Or\, The African Mean Girls Play
DESCRIPTION:SCHOOL GIRLS; OR\, THE AFRICAN MEAN GIRLS PLAY The reigning queen bee at Ghana’s most exclusive boarding school has her sights set on the Miss Global Universe pageant—until a new student arrives. This comedy explores the universal similarities (and glaring differences) teen girls face across the globe. Rated PG-13. 2 and 7:30 p.m. Tickets: $15–$21. Selma Arts Center\, 1935 High Street\, Selma. 891-2238
URL:https://ccparent.com/calendar-event/school-girls-or-the-african-mean-girls-play-7/
LOCATION:Selma Arts Center\, 1935 High Street\, Selma\, CA\, United States
END:VEVENT
BEGIN:VEVENT
DTSTART;TZID=America/Los_Angeles:20240302T200000
DTEND;TZID=America/Los_Angeles:20240302T200000
DTSTAMP:20260420T054532
CREATED:20240302T215015Z
LAST-MODIFIED:20240302T215015Z
UID:72561-1709409600-1709409600@ccparent.com
SUMMARY:Moon Over Buffalo
DESCRIPTION:Charlotte and George Hay are on tour in Buffalo in 1953 with a repertory consisting of Cyrano de Bergerac (the “revised\, one nostril version”) and Noel Coward’s Private Lives\, when they receive word that they might just have one last shot at stardom: Frank Capra is coming to town to see their matinee. Rated PG13
URL:https://ccparent.com/calendar-event/moon-over-buffalo-2/
LOCATION:2nd Space Theatre\, 928 E. Olive\, Fresno\, CA\, United States
END:VEVENT
BEGIN:VEVENT
DTSTART;TZID=America/Los_Angeles:20240303T100000
DTEND;TZID=America/Los_Angeles:20240303T140000
DTSTAMP:20260420T054532
CREATED:20240202T045503Z
LAST-MODIFIED:20240302T214345Z
UID:72242-1709460000-1709474400@ccparent.com
SUMMARY:Fort Washington Farmers Market
DESCRIPTION:Enjoy farmers\, artists\, food booths\, and food trucks selling local gifts and handmade products from 10 a.m.–2 p.m. Riverview Shopping Center\, Friant & Fort Washington\, Fresno. 314-6605
URL:https://ccparent.com/calendar-event/fort-washington-farmers-market-155/
LOCATION:Riverview Shopping Center\, N Fort Washington Road\, Fresno\, CA\, 93730\, United States
END:VEVENT
BEGIN:VEVENT
DTSTART;TZID=America/Los_Angeles:20240303T110000
DTEND;TZID=America/Los_Angeles:20240303T110000
DTSTAMP:20260420T054532
CREATED:20240202T045505Z
LAST-MODIFIED:20240302T214359Z
UID:72243-1709463600-1709463600@ccparent.com
SUMMARY:Beautiful: The Carole King Musical
DESCRIPTION:Beautiful is the inspiring tale about a girl who became King. This Tony and Grammy Award-winning musical phenomenon is filled with the songs you remember and a story you’ll never forget. Rated PG-13. Tickets: $45–$75. 11 a.m. Roger Rocka’s Dinner Theatre\, 1226 N. Wishon Avenue\, Fresno. 266-9494
URL:https://ccparent.com/calendar-event/beautiful-the-carole-king-musical-20/
END:VEVENT
BEGIN:VEVENT
DTSTART;TZID=America/Los_Angeles:20240303T140000
DTEND;TZID=America/Los_Angeles:20240303T140000
DTSTAMP:20260420T054532
CREATED:20240302T034951Z
LAST-MODIFIED:20240302T214545Z
UID:72387-1709474400-1709474400@ccparent.com
SUMMARY:12 ANGRY JURORS–REEDLEY
DESCRIPTION:Contemplate the huge responsibility of 12 ordinary people as they consider the guilt or innocence of a young man. Tickets: $21–$86. 7:30 p.m. Reedley River City Theater\, 1720 Tenth Street\, Reedley. 638-6500
URL:https://ccparent.com/calendar-event/12-angry-jurors-reedley-3/
END:VEVENT
BEGIN:VEVENT
DTSTART;TZID=America/Los_Angeles:20240303T140000
DTEND;TZID=America/Los_Angeles:20240303T140000
DTSTAMP:20260420T054532
CREATED:20240302T040114Z
LAST-MODIFIED:20240302T214630Z
UID:72402-1709474400-1709474400@ccparent.com
SUMMARY:PUFFS
DESCRIPTION:Go on a fast-paced romp through the seven increasingly eventful years at a certain school of witchcraft and wizardry. Tickets: $8–$14. 7:30 p.m. Fresno City College\, 1101 E. University Avenue\, Fresno. 442-8221
URL:https://ccparent.com/calendar-event/puffs-3/
LOCATION:Fresno City College\, 1101 E. University Avenue\, Fresno\, California
END:VEVENT
BEGIN:VEVENT
DTSTART;TZID=America/Los_Angeles:20240303T140000
DTEND;TZID=America/Los_Angeles:20240303T140000
DTSTAMP:20260420T054532
CREATED:20240302T215016Z
LAST-MODIFIED:20240302T215016Z
UID:72562-1709474400-1709474400@ccparent.com
SUMMARY:Moon Over Buffalo
DESCRIPTION:Charlotte and George Hay are on tour in Buffalo in 1953 with a repertory consisting of Cyrano de Bergerac (the “revised\, one nostril version”) and Noel Coward’s Private Lives\, when they receive word that they might just have one last shot at stardom: Frank Capra is coming to town to see their matinee. Rated PG13
URL:https://ccparent.com/calendar-event/moon-over-buffalo-3/
LOCATION:2nd Space Theatre\, 928 E. Olive\, Fresno\, CA\, United States
END:VEVENT
END:VCALENDAR