BEGIN:VCALENDAR
VERSION:2.0
PRODID:-//CCParent - ECPv6.6.4.2//NONSGML v1.0//EN
CALSCALE:GREGORIAN
METHOD:PUBLISH
X-ORIGINAL-URL:https://ccparent.com
X-WR-CALDESC:Events for CCParent
REFRESH-INTERVAL;VALUE=DURATION:PT1H
X-Robots-Tag:noindex
X-PUBLISHED-TTL:PT1H
BEGIN:VTIMEZONE
TZID:America/Los_Angeles
BEGIN:DAYLIGHT
TZOFFSETFROM:-0800
TZOFFSETTO:-0700
TZNAME:PDT
DTSTART:20240310T100000
END:DAYLIGHT
BEGIN:STANDARD
TZOFFSETFROM:-0700
TZOFFSETTO:-0800
TZNAME:PST
DTSTART:20241103T090000
END:STANDARD
END:VTIMEZONE
BEGIN:VEVENT
DTSTART;TZID=America/Los_Angeles:20240804T100000
DTEND;TZID=America/Los_Angeles:20240804T140000
DTSTAMP:20260422T014308
CREATED:20240731T115053Z
LAST-MODIFIED:20240811T162033Z
UID:73529-1722765600-1722780000@ccparent.com
SUMMARY:Fort Washington Farmers Market
DESCRIPTION:Enjoy farmers\, artists\, food booths\, and food trucks selling local gifts and handmade products from 10 a.m.–2 p.m. Riverview Shopping Center\, Friant & Fort Washington\, Fresno. 314-6605
URL:https://ccparent.com/calendar-event/fort-washington-farmers-market-173/
LOCATION:Riverview Shopping Center\, N Fort Washington Road\, Fresno\, CA\, 93730\, United States
END:VEVENT
BEGIN:VEVENT
DTSTART;TZID=America/Los_Angeles:20240804T140000
DTEND;TZID=America/Los_Angeles:20240804T140000
DTSTAMP:20260422T014308
CREATED:20240731T121757Z
LAST-MODIFIED:20240731T121757Z
UID:73594-1722780000-1722780000@ccparent.com
SUMMARY:SEUSSICAL JR.
DESCRIPTION:Horton the Elephant\, the Cat in the Hat\, and all of your favorite Dr. Seuss characters spring to life onstage in a fantastical musical extravaganza.
URL:https://ccparent.com/calendar-event/seussical-jr-3/
LOCATION:Veterans Memorial Auditorium\, 2425 Fresno Street\, Fresno\, CA
END:VEVENT
BEGIN:VEVENT
DTSTART;TZID=America/Los_Angeles:20240804T140000
DTEND;TZID=America/Los_Angeles:20240804T140000
DTSTAMP:20260422T014308
CREATED:20240731T121758Z
LAST-MODIFIED:20240731T121758Z
UID:73595-1722780000-1722780000@ccparent.com
SUMMARY:THE SPONGEBOB MUSICAL
DESCRIPTION:When the citizens of Bikini Bottom discover a volcano that will soon erupt\, SpongeBob and his friends must come together to save the fate of their undersea world!
URL:https://ccparent.com/calendar-event/the-spongebob-musical-3/
LOCATION:CA
END:VEVENT
END:VCALENDAR