BEGIN:VCALENDAR
VERSION:2.0
PRODID:-//CCParent - ECPv6.6.4.2//NONSGML v1.0//EN
CALSCALE:GREGORIAN
METHOD:PUBLISH
X-ORIGINAL-URL:https://ccparent.com
X-WR-CALDESC:Events for CCParent
REFRESH-INTERVAL;VALUE=DURATION:PT1H
X-Robots-Tag:noindex
X-PUBLISHED-TTL:PT1H
BEGIN:VTIMEZONE
TZID:America/Los_Angeles
BEGIN:DAYLIGHT
TZOFFSETFROM:-0800
TZOFFSETTO:-0700
TZNAME:PDT
DTSTART:20240310T100000
END:DAYLIGHT
BEGIN:STANDARD
TZOFFSETFROM:-0700
TZOFFSETTO:-0800
TZNAME:PST
DTSTART:20241103T090000
END:STANDARD
END:VTIMEZONE
BEGIN:VEVENT
DTSTART;TZID=America/Los_Angeles:20240611T153000
DTEND;TZID=America/Los_Angeles:20240611T163000
DTSTAMP:20260424T053350
CREATED:20240604T002504Z
LAST-MODIFIED:20240604T002504Z
UID:73356-1718119800-1718123400@ccparent.com
SUMMARY:TAIL-WAGGIN' TUTORS
DESCRIPTION:Come read to a registered therapy dog! Kids will have the opportunity to practice reading out loud in a relaxed setting which will improve their reading skills. 3:30–4:30 p.m. Fig Garden Regional Library\, 3071 W. Bullard Avenue\, Fresno. 600-4071. Gillis Branch Library\, 629 W. Dakota Avenue\, Fresno. 600-9915
URL:https://ccparent.com/calendar-event/tail-waggin-tutors-134/
LOCATION:Fig Garden Regional Library\, 3071 W. Bullard Avenue\, Fresno\, CA
END:VEVENT
BEGIN:VEVENT
DTSTART;TZID=America/Los_Angeles:20240611T170000
DTEND;TZID=America/Los_Angeles:20240611T210000
DTSTAMP:20260424T053350
CREATED:20240508T185029Z
LAST-MODIFIED:20240604T002149Z
UID:73136-1718125200-1718139600@ccparent.com
SUMMARY:River Park Farmers Market
DESCRIPTION:The River Park Farmers Market has been Fresno’s favorite Farmer’s Market for more than 20 years! We celebrte the amazing bounty of our Valley and the hard work of the farmers the make it all possible.
URL:https://ccparent.com/calendar-event/river-park-farmers-market-271/
LOCATION:CA
END:VEVENT
BEGIN:VEVENT
DTSTART;TZID=America/Los_Angeles:20240611T183000
DTEND;TZID=America/Los_Angeles:20240611T183000
DTSTAMP:20260424T053350
CREATED:20240604T002504Z
LAST-MODIFIED:20240604T002504Z
UID:73357-1718130600-1718130600@ccparent.com
SUMMARY:VISALIA RAWHIDES
DESCRIPTION:Watch your Visalia Rawhides up at bat against the Modesto Nuts at 6:30 p.m. Tickets: $10–$15. Valley Strong Ballpark\, 300 N. Giddings Street\, Visalia. 732-4433
URL:https://ccparent.com/calendar-event/visalia-rawhides-140/
LOCATION:Valley Strong Ballpark\, 300 N. Giddings Street\, Visalia\, CA\, 93291\, United States
END:VEVENT
BEGIN:VEVENT
DTSTART;TZID=America/Los_Angeles:20240611T185000
DTEND;TZID=America/Los_Angeles:20240611T185000
DTSTAMP:20260424T053350
CREATED:20240604T002450Z
LAST-MODIFIED:20240604T002450Z
UID:73355-1718131800-1718131800@ccparent.com
SUMMARY:FRESNO GRIZZLIES
DESCRIPTION:Take the whole family out to the ball game and watch your Fresno Grizzlies up at bat against the Rancho Cucamonga Quakes at 6:50 p.m. Tickets: $10–$60. Chukchansi Park\, 1800 Tulare Street\, Fresno. 320‑TIXS
URL:https://ccparent.com/calendar-event/fresno-grizzlies-200/
LOCATION:Chukchansi Park\, 1800 Tulare Street\, Fresno\, CA\, 93721\, United States
END:VEVENT
END:VCALENDAR