BEGIN:VCALENDAR
VERSION:2.0
PRODID:-//CCParent - ECPv6.6.4.2//NONSGML v1.0//EN
CALSCALE:GREGORIAN
METHOD:PUBLISH
X-ORIGINAL-URL:https://ccparent.com
X-WR-CALDESC:Events for CCParent
REFRESH-INTERVAL;VALUE=DURATION:PT1H
X-Robots-Tag:noindex
X-PUBLISHED-TTL:PT1H
BEGIN:VTIMEZONE
TZID:America/Los_Angeles
BEGIN:DAYLIGHT
TZOFFSETFROM:-0800
TZOFFSETTO:-0700
TZNAME:PDT
DTSTART:20240310T100000
END:DAYLIGHT
BEGIN:STANDARD
TZOFFSETFROM:-0700
TZOFFSETTO:-0800
TZNAME:PST
DTSTART:20241103T090000
END:STANDARD
END:VTIMEZONE
BEGIN:VEVENT
DTSTART;TZID=America/Los_Angeles:20240414T100000
DTEND;TZID=America/Los_Angeles:20240414T140000
DTSTAMP:20260420T014018
CREATED:20240327T213912Z
LAST-MODIFIED:20240327T213912Z
UID:72722-1713088800-1713103200@ccparent.com
SUMMARY:Fort Washington Farmers Market
DESCRIPTION:Enjoy farmers\, artists\, food booths\, and food trucks selling local gifts and handmade products from 10 a.m.–2 p.m. Riverview Shopping Center\, Friant & Fort Washington\, Fresno. 314-6605
URL:https://ccparent.com/calendar-event/fort-washington-farmers-market-161/
LOCATION:Riverview Shopping Center\, N Fort Washington Road\, Fresno\, CA\, 93730\, United States
END:VEVENT
BEGIN:VEVENT
DTSTART;TZID=America/Los_Angeles:20240414T100000
DTEND;TZID=America/Los_Angeles:20240414T170000
DTSTAMP:20260420T014018
CREATED:20240327T225415Z
LAST-MODIFIED:20240327T225415Z
UID:72788-1713088800-1713114000@ccparent.com
SUMMARY:TULARE COUNTY RENAISSANCE FAIRE
DESCRIPTION:Families will enjoy jugglers\, magicians\, and storytellers who will perform and delight! 10 a.m.–5 p.m. Tickets: $15–$20. Plaza Park\, 700 S. Plaza Street\, Visalia. 686-1547
URL:https://ccparent.com/calendar-event/tulare-county-renaissance-faire-6/
LOCATION:Plaza Park\, 700 S. Plaza Street\, Visalia
END:VEVENT
BEGIN:VEVENT
DTSTART;TZID=America/Los_Angeles:20240414T110000
DTEND;TZID=America/Los_Angeles:20240414T153000
DTSTAMP:20260420T014018
CREATED:20240328T000506Z
LAST-MODIFIED:20240328T000506Z
UID:72844-1713092400-1713108600@ccparent.com
SUMMARY:Fiddler on the Roof
DESCRIPTION:Enjoy the heart-warming story of a dairyman\, his family\, and the village of Anatevka through humor\, heart\, and stunning music. Rated PG. Tickets: $45–$75. 11 a.m. Roger Rocka’s Dinner Theater\, 1226 N. Wishon Avenue\, Fresno. 266-9494
URL:https://ccparent.com/calendar-event/fiddler-on-the-roof-20/
END:VEVENT
BEGIN:VEVENT
DTSTART;TZID=America/Los_Angeles:20240414T120500
DTEND;TZID=America/Los_Angeles:20240414T120500
DTSTAMP:20260420T014018
CREATED:20240327T225414Z
LAST-MODIFIED:20240327T225414Z
UID:72787-1713096300-1713096300@ccparent.com
SUMMARY:VISALIA RAWHIDES
DESCRIPTION:Take the whole family out to the ball game and watch your Visalia Rawhides up at bat against the San Jose Giants at 12:05 p.m. Tickets: $10–$15. Valley Strong Ballpark\, 300 N. Giddings Street\, Visalia. 732-4433
URL:https://ccparent.com/calendar-event/visalia-rawhides-119/
LOCATION:Valley Strong Ballpark\, 300 N. Giddings Street\, Visalia\, CA\, 93291\, United States
END:VEVENT
BEGIN:VEVENT
DTSTART;TZID=America/Los_Angeles:20240414T130500
DTEND;TZID=America/Los_Angeles:20240414T130500
DTSTAMP:20260420T014018
CREATED:20240327T225215Z
LAST-MODIFIED:20240327T225215Z
UID:72786-1713099900-1713099900@ccparent.com
SUMMARY:FRESNO GRIZZLIES
DESCRIPTION:Take the whole family out to the ball game and watch your Fresno Grizzlies up at bat against the Inland Empire 66ers at 1:05 p.m. Tickets: $10–$60. Chukchansi Park\, 1800 Tulare Street\, Fresno. 320‑TIXS
URL:https://ccparent.com/calendar-event/fresno-grizzlies-181/
LOCATION:Chukchansi Park\, 1800 Tulare Street\, Fresno\, CA\, 93721\, United States
END:VEVENT
BEGIN:VEVENT
DTSTART;TZID=America/Los_Angeles:20240414T140000
DTEND;TZID=America/Los_Angeles:20240414T140000
DTSTAMP:20260420T014018
CREATED:20240327T224240Z
LAST-MODIFIED:20240327T224240Z
UID:72751-1713103200-1713103200@ccparent.com
SUMMARY:Moon Over Buffalo
DESCRIPTION:Charlotte and George Hay are on tour in Buffalo in 1953 with a repertory consisting of Cyrano de Bergerac (the “revised\, one nostril version”) and Noel Coward’s Private Lives\, when they receive word that they might just have one last shot at stardom: Frank Capra is coming to town to see their matinee. Rated PG13
URL:https://ccparent.com/calendar-event/moon-over-buffalo-27/
LOCATION:2nd Space Theatre\, 928 E. Olive\, Fresno\, CA\, United States
END:VEVENT
END:VCALENDAR