BEGIN:VCALENDAR
VERSION:2.0
PRODID:-//CCParent - ECPv6.6.4.2//NONSGML v1.0//EN
CALSCALE:GREGORIAN
METHOD:PUBLISH
X-WR-CALNAME:CCParent
X-ORIGINAL-URL:https://ccparent.com
X-WR-CALDESC:Events for CCParent
REFRESH-INTERVAL;VALUE=DURATION:PT1H
X-Robots-Tag:noindex
X-PUBLISHED-TTL:PT1H
BEGIN:VTIMEZONE
TZID:America/Los_Angeles
BEGIN:DAYLIGHT
TZOFFSETFROM:-0800
TZOFFSETTO:-0700
TZNAME:PDT
DTSTART:20240310T100000
END:DAYLIGHT
BEGIN:STANDARD
TZOFFSETFROM:-0700
TZOFFSETTO:-0800
TZNAME:PST
DTSTART:20241103T090000
END:STANDARD
END:VTIMEZONE
BEGIN:VEVENT
DTSTART;TZID=America/Los_Angeles:20240411T170000
DTEND;TZID=America/Los_Angeles:20240411T170000
DTSTAMP:20260420T013737
CREATED:20240327T230901Z
LAST-MODIFIED:20240327T230901Z
UID:72832-1712854800-1712854800@ccparent.com
SUMMARY:Fiddler on the Roof
DESCRIPTION:Enjoy the heart-warming story of a dairyman\, his family\, and the village of Anatevka through humor\, heart\, and stunning music. Rated PG. Tickets: $45–$75. 5 p.m. Roger Rocka’s Dinner Theater\, 1226 N. Wishon Avenue\, Fresno. 266-9494
URL:https://ccparent.com/calendar-event/fiddler-on-the-roof-8/
END:VEVENT
BEGIN:VEVENT
DTSTART;TZID=America/Los_Angeles:20240411T183000
DTEND;TZID=America/Los_Angeles:20240411T183000
DTSTAMP:20260420T013737
CREATED:20240327T224838Z
LAST-MODIFIED:20240327T224838Z
UID:72772-1712860200-1712860200@ccparent.com
SUMMARY:VISALIA RAWHIDES
DESCRIPTION:Take the whole family out to the ball game and watch your Visalia Rawhides up at bat against the San Jose Giants at 6:30 p.m. Tickets: $10–$15. Valley Strong Ballpark\, 300 N. Giddings Street\, Visalia. 732-4433
URL:https://ccparent.com/calendar-event/visalia-rawhides-116/
LOCATION:Valley Strong Ballpark\, 300 N. Giddings Street\, Visalia\, CA\, 93291\, United States
END:VEVENT
BEGIN:VEVENT
DTSTART;TZID=America/Los_Angeles:20240411T185000
DTEND;TZID=America/Los_Angeles:20240411T185000
DTSTAMP:20260420T013737
CREATED:20240327T224838Z
LAST-MODIFIED:20240327T224838Z
UID:72771-1712861400-1712861400@ccparent.com
SUMMARY:FRESNO GRIZZLIES
DESCRIPTION:Take the whole family out to the ball game and watch your Fresno Grizzlies up at bat against the Inland Empire 66ers at 6:50 p.m. Tickets: $10–$60. Chukchansi Park\, 1800 Tulare Street\, Fresno. 320‑TIXS
URL:https://ccparent.com/calendar-event/fresno-grizzlies-178/
LOCATION:Chukchansi Park\, 1800 Tulare Street\, Fresno\, CA\, 93721\, United States
END:VEVENT
BEGIN:VEVENT
DTSTART;TZID=America/Los_Angeles:20240411T193000
DTEND;TZID=America/Los_Angeles:20240411T193000
DTSTAMP:20260420T013737
CREATED:20240327T224040Z
LAST-MODIFIED:20240327T224040Z
UID:72748-1712863800-1712863800@ccparent.com
SUMMARY:Moon Over Buffalo
DESCRIPTION:Charlotte and George Hay are on tour in Buffalo in 1953 with a repertory consisting of Cyrano de Bergerac (the “revised\, one nostril version”) and Noel Coward’s Private Lives\, when they receive word that they might just have one last shot at stardom: Frank Capra is coming to town to see their matinee. Rated PG13
URL:https://ccparent.com/calendar-event/moon-over-buffalo-24/
LOCATION:2nd Space Theatre\, 928 E. Olive\, Fresno\, CA\, United States
END:VEVENT
END:VCALENDAR