BEGIN:VCALENDAR
VERSION:2.0
PRODID:-//CCParent - ECPv6.6.4.2//NONSGML v1.0//EN
CALSCALE:GREGORIAN
METHOD:PUBLISH
X-ORIGINAL-URL:https://ccparent.com
X-WR-CALDESC:Events for CCParent
REFRESH-INTERVAL;VALUE=DURATION:PT1H
X-Robots-Tag:noindex
X-PUBLISHED-TTL:PT1H
BEGIN:VTIMEZONE
TZID:America/Los_Angeles
BEGIN:DAYLIGHT
TZOFFSETFROM:-0800
TZOFFSETTO:-0700
TZNAME:PDT
DTSTART:20240310T100000
END:DAYLIGHT
BEGIN:STANDARD
TZOFFSETFROM:-0700
TZOFFSETTO:-0800
TZNAME:PST
DTSTART:20241103T090000
END:STANDARD
END:VTIMEZONE
BEGIN:VEVENT
DTSTART;TZID=America/Los_Angeles:20240323T070000
DTEND;TZID=America/Los_Angeles:20240323T120000
DTSTAMP:20260422T031733
CREATED:20240202T045620Z
LAST-MODIFIED:20240302T214515Z
UID:72269-1711177200-1711195200@ccparent.com
SUMMARY:Vineyard Farmers Market
DESCRIPTION:Shop for the finest quality\, locally-grown produce direct from the grower. Dedicated to providing a healthy shopping experience for parents all year! 7 a.m.–12 p.m. Blackstone and Shaw Avenues. 269-9343
URL:https://ccparent.com/calendar-event/vineyard-farmers-market-287/
LOCATION:CA
END:VEVENT
BEGIN:VEVENT
DTSTART;TZID=America/Los_Angeles:20240323T080000
DTEND;TZID=America/Los_Angeles:20240323T113000
DTSTAMP:20260422T031733
CREATED:20240202T045621Z
LAST-MODIFIED:20240302T214515Z
UID:72270-1711180800-1711193400@ccparent.com
SUMMARY:Visalia Farmers Market
DESCRIPTION:Shop for fresh produce and visit local vendors from 8–11:30 a.m. Rain or shine! Main and Mooney\, 2231 W. Main Street\, Visalia. 730-6021
URL:https://ccparent.com/calendar-event/visalia-farmers-market-81/
LOCATION:CA
END:VEVENT
BEGIN:VEVENT
DTSTART;TZID=America/Los_Angeles:20240323T090000
DTEND;TZID=America/Los_Angeles:20240323T113000
DTSTAMP:20260422T031733
CREATED:20240202T045620Z
LAST-MODIFIED:20240302T214515Z
UID:72268-1711184400-1711193400@ccparent.com
SUMMARY:Old Town Clovis Farmers Market
DESCRIPTION:Families are invited to shop for local produce in the open-air market in Old Town Clovis from 9–11:30 a.m. Weather permitting. Old Town Clovis\, Pollasky between Fifth and Bullard\, Clovis. 298-5774
URL:https://ccparent.com/calendar-event/old-town-clovis-farmers-market-197/
LOCATION:CA
END:VEVENT
BEGIN:VEVENT
DTSTART;TZID=America/Los_Angeles:20240323T090000
DTEND;TZID=America/Los_Angeles:20240323T120000
DTSTAMP:20260422T031733
CREATED:20240302T041404Z
LAST-MODIFIED:20240302T214930Z
UID:72462-1711184400-1711195200@ccparent.com
SUMMARY:KERMAN EASTER EGGSTRAVAGANZA
DESCRIPTION:Celebrate spring at this annual event with egg hunts for kids\, games\, and more! 9 a.m.–12 p.m. Lions Park\, California and Park Avenues. 846-9384
URL:https://ccparent.com/calendar-event/kerman-easter-eggstravaganza-3/
LOCATION:Lions Park\, 744 S Park Ave\, Kerman\, 93630
END:VEVENT
BEGIN:VEVENT
DTSTART;TZID=America/Los_Angeles:20240323T100000
DTEND;TZID=America/Los_Angeles:20240323T110000
DTSTAMP:20260422T031733
CREATED:20240302T230112Z
LAST-MODIFIED:20240302T230112Z
UID:72645-1711188000-1711191600@ccparent.com
SUMMARY:Tail Waggin' Tutors
DESCRIPTION:Come read to Fozzie Bear and Doxie\, our friendly\, loving\, trained dogs! Children will have the opportunity to practice reading out loud in a relaxed setting which will improve their reading skills and help them feel more comfortable.
URL:https://ccparent.com/calendar-event/tail-waggin-tutors-123/
LOCATION:Reedley Branch Library\, 1027 E. Street\, Reedley\, California
END:VEVENT
BEGIN:VEVENT
DTSTART;TZID=America/Los_Angeles:20240323T100000
DTEND;TZID=America/Los_Angeles:20240323T120000
DTSTAMP:20260422T031733
CREATED:20240302T041404Z
LAST-MODIFIED:20240302T214930Z
UID:72463-1711188000-1711195200@ccparent.com
SUMMARY:Michaels Kids Club
DESCRIPTION:Head to Michaels to make plastic egg bunnies for free! 10 a.m.–12 p.m. Contact your local Michaels for more information. 353-3201 or 324-8725
URL:https://ccparent.com/calendar-event/michaels-kids-club-2/
LOCATION:CA
END:VEVENT
BEGIN:VEVENT
DTSTART;TZID=America/Los_Angeles:20240323T100000
DTEND;TZID=America/Los_Angeles:20240323T140000
DTSTAMP:20260422T031733
CREATED:20240202T045621Z
LAST-MODIFIED:20240302T214517Z
UID:72271-1711188000-1711202400@ccparent.com
SUMMARY:Tesoro Viejo Farmers Market - Madera
DESCRIPTION:Find local farmers\, ranchers\, and artisans selling hand-picked products and high-quality goods from 10 a.m.–2 p.m. Weather permitting. Tesoro Viejo Town Center\, 4150 N. Town Center Boulevard\, Madera. 822-3375
URL:https://ccparent.com/calendar-event/tesoro-viejo-farmers-market-madera-96/
LOCATION:Tesoro Viejo Town Center\, 4150 Town Center Boulevard\, Madera\, California
END:VEVENT
BEGIN:VEVENT
DTSTART;TZID=America/Los_Angeles:20240323T100000
DTEND;TZID=America/Los_Angeles:20240323T170000
DTSTAMP:20260422T031734
CREATED:20240302T041002Z
LAST-MODIFIED:20240302T214900Z
UID:72451-1711188000-1711213200@ccparent.com
SUMMARY:CENTRAL VALLEY GEM & MINERAL SHOW
DESCRIPTION:This event has free\, educational fun for all ages! Learn about minerals\, fossils\, gems\, and more from 10 a.m.–5 p.m. Clovis Rodeo Grounds\, 748 Rodeo Drive\, Clovis. 708-822-0361
URL:https://ccparent.com/calendar-event/central-valley-gem-mineral-show-5/
LOCATION:Clovis Rodeo Grounds\, 748 Rodeo Drive\, Clovis
END:VEVENT
BEGIN:VEVENT
DTSTART;TZID=America/Los_Angeles:20240323T103000
DTEND;TZID=America/Los_Angeles:20240323T103000
DTSTAMP:20260422T031734
CREATED:20240302T040210Z
LAST-MODIFIED:20240302T214729Z
UID:72419-1711189800-1711189800@ccparent.com
SUMMARY:Maya Cares
DESCRIPTION:MAYA CARES Families are invited to join for a sensory-friendly movie today at 10:30 a.m. Entry is free for guests with special needs and companion tickets are $6. Maya Cinemas\, 3090 E. Campus Pointe Drive\, Fresno. 549-0005
URL:https://ccparent.com/calendar-event/maya-cares-127/
LOCATION:Maya Cinemas\, 3090 E. Campus Pointe Drive\, Fresno\, CA\, United States
END:VEVENT
BEGIN:VEVENT
DTSTART;TZID=America/Los_Angeles:20240323T120000
DTEND;TZID=America/Los_Angeles:20240323T130000
DTSTAMP:20260422T031734
CREATED:20240302T230113Z
LAST-MODIFIED:20240302T230113Z
UID:72646-1711195200-1711198800@ccparent.com
SUMMARY:Tail Waggin' Tutors
DESCRIPTION:Come read to our friendly\, loving trained therapy pups\, Doxie and Fozzie Bear!
URL:https://ccparent.com/calendar-event/tail-waggin-tutors-124/
LOCATION:CA
END:VEVENT
BEGIN:VEVENT
DTSTART;TZID=America/Los_Angeles:20240323T140000
DTEND;TZID=America/Los_Angeles:20240323T150000
DTSTAMP:20260422T031734
CREATED:20240302T230113Z
LAST-MODIFIED:20240302T230113Z
UID:72647-1711202400-1711206000@ccparent.com
SUMMARY:Celtic Music Concert
DESCRIPTION:Join us for a Celtic music concert featuring songs from Ireland\, Scotland\, Wales and Bretagne. Fresno’s ‘Pipe on the Hob’ will be joined by Larry Cusick on fiddle/Irish flute and pipes. A great event for the whole family and all ages!
URL:https://ccparent.com/calendar-event/celtic-music-concert/
LOCATION:CA
END:VEVENT
BEGIN:VEVENT
DTSTART;TZID=America/Los_Angeles:20240323T173000
DTEND;TZID=America/Los_Angeles:20240323T173000
DTSTAMP:20260422T031734
CREATED:20240302T040344Z
LAST-MODIFIED:20240302T214759Z
UID:72430-1711215000-1711215000@ccparent.com
SUMMARY:Fiddler on the Roof–Fresno
DESCRIPTION:Enjoy the heart-warming story of a dairyman\, his family\, and the village of Anatevka through humor\, heart\, and stunning music. Rated PG. Tickets: $45–$75. 5 p.m. Roger Rocka’s Dinner Theater\, 1226 N. Wishon Avenue\, Fresno. 266-9494
URL:https://ccparent.com/calendar-event/fiddler-on-the-roof-fresno-2/
LOCATION:CA
END:VEVENT
BEGIN:VEVENT
DTSTART;TZID=America/Los_Angeles:20240323T190000
DTEND;TZID=America/Los_Angeles:20240323T190000
DTSTAMP:20260422T031734
CREATED:20240302T041204Z
LAST-MODIFIED:20240302T214914Z
UID:72454-1711220400-1711220400@ccparent.com
SUMMARY:Fiddler on the Roof - Oakhurst
DESCRIPTION:Enjoy the heart-warming story of a dairyman\, his family\, and the village of Anatevka in 1905 Russia where faith and love inspire a generation. Rated G. Tickets: $13–$18. 7 p.m. Golden Chain Theater\, 42130 Highway 41\, Oakhurst. 683-7112
URL:https://ccparent.com/calendar-event/fiddler-on-the-roof-oakhurst-2/
LOCATION:CA
END:VEVENT
BEGIN:VEVENT
DTSTART;TZID=America/Los_Angeles:20240323T190000
DTEND;TZID=America/Los_Angeles:20240323T210000
DTSTAMP:20260422T031734
CREATED:20240302T041404Z
LAST-MODIFIED:20240302T214929Z
UID:72461-1711220400-1711227600@ccparent.com
SUMMARY:The Madrigal Dinner: A Renaissance Feaste
DESCRIPTION:A host of wacky characters spreads the fun around as the audience\, playing the part of esteemed Renaissance dinner guests\, experience non-stop mirth and music in this laugh-out-loud comedy for all ages. Tickets: $30–$40. 7–9 p.m. Warkentine Culture & Arts Center\, 4838 E. Butler Avenue\, Fresno. 453-2000
URL:https://ccparent.com/calendar-event/the-madrigal-dinner-a-renaissance-feaste-2/
LOCATION:CA
END:VEVENT
BEGIN:VEVENT
DTSTART;TZID=America/Los_Angeles:20240323T200000
DTEND;TZID=America/Los_Angeles:20240323T200000
DTSTAMP:20260422T031734
CREATED:20240302T215059Z
LAST-MODIFIED:20240302T215059Z
UID:72573-1711224000-1711224000@ccparent.com
SUMMARY:Moon Over Buffalo
DESCRIPTION:Charlotte and George Hay are on tour in Buffalo in 1953 with a repertory consisting of Cyrano de Bergerac (the “revised\, one nostril version”) and Noel Coward’s Private Lives\, when they receive word that they might just have one last shot at stardom: Frank Capra is coming to town to see their matinee. Rated PG13
URL:https://ccparent.com/calendar-event/moon-over-buffalo-14/
LOCATION:2nd Space Theatre\, 928 E. Olive\, Fresno\, CA\, United States
END:VEVENT
END:VCALENDAR