BEGIN:VCALENDAR
VERSION:2.0
PRODID:-//CCParent - ECPv6.6.4.2//NONSGML v1.0//EN
CALSCALE:GREGORIAN
METHOD:PUBLISH
X-ORIGINAL-URL:https://ccparent.com
X-WR-CALDESC:Events for CCParent
REFRESH-INTERVAL;VALUE=DURATION:PT1H
X-Robots-Tag:noindex
X-PUBLISHED-TTL:PT1H
BEGIN:VTIMEZONE
TZID:America/Los_Angeles
BEGIN:DAYLIGHT
TZOFFSETFROM:-0800
TZOFFSETTO:-0700
TZNAME:PDT
DTSTART:20240310T100000
END:DAYLIGHT
BEGIN:STANDARD
TZOFFSETFROM:-0700
TZOFFSETTO:-0800
TZNAME:PST
DTSTART:20241103T090000
END:STANDARD
END:VTIMEZONE
BEGIN:VEVENT
DTSTART;TZID=America/Los_Angeles:20240204T100000
DTEND;TZID=America/Los_Angeles:20240204T140000
DTSTAMP:20260422T032000
CREATED:20240202T044743Z
LAST-MODIFIED:20240202T044743Z
UID:72122-1707040800-1707055200@ccparent.com
SUMMARY:Fort Washington Farmers Market
DESCRIPTION:Enjoy farmers\, artists\, food booths\, and food trucks selling local gifts and handmade products from 10 a.m.–2 p.m. Riverview Shopping Center\, Friant & Fort Washington\, Fresno. 314-6605
URL:https://ccparent.com/calendar-event/fort-washington-farmers-market-151/
LOCATION:Riverview Shopping Center\, N Fort Washington Road\, Fresno\, CA\, 93730\, United States
END:VEVENT
BEGIN:VEVENT
DTSTART;TZID=America/Los_Angeles:20240204T100000
DTEND;TZID=America/Los_Angeles:20240204T180000
DTSTAMP:20260422T032000
CREATED:20240131T060038Z
LAST-MODIFIED:20240202T044742Z
UID:72030-1707040800-1707069600@ccparent.com
SUMMARY:Anime Gaming Con
DESCRIPTION:ANIME GAMING CON Enjoy gaming tournaments\, card games\, vendors\,special guests\, and more from 10 a.m.–6 p.m. Tickets: $10–$25. Fresno Fairgrounds\, 1121 S. Chance Avenue\, Fresno. 650-3247
URL:https://ccparent.com/calendar-event/anime-gaming-con-2/
LOCATION:CA
END:VEVENT
BEGIN:VEVENT
DTSTART;TZID=America/Los_Angeles:20240204T110000
DTEND;TZID=America/Los_Angeles:20240204T110000
DTSTAMP:20260422T032000
CREATED:20240202T044757Z
LAST-MODIFIED:20240202T044757Z
UID:72124-1707044400-1707044400@ccparent.com
SUMMARY:Beautiful: The Carole King Musical
DESCRIPTION:Beautiful is the inspiring tale about a girl who became King. This Tony and Grammy Award-winning musical phenomenon is filled with the songs you remember and a story you’ll never forget. Rated PG-13. Tickets: $45–$75. 11 a.m. Roger Rocka’s Dinner Theatre\, 1226 N. Wishon Avenue\, Fresno. 266-9494
URL:https://ccparent.com/calendar-event/beautiful-the-carole-king-musical-4/
LOCATION:CA
END:VEVENT
BEGIN:VEVENT
DTSTART;TZID=America/Los_Angeles:20240204T140000
DTEND;TZID=America/Los_Angeles:20240204T140000
DTSTAMP:20260422T032000
CREATED:20240131T060039Z
LAST-MODIFIED:20240202T044742Z
UID:72031-1707055200-1707055200@ccparent.com
SUMMARY:Anne of Green Gables - Tulare
DESCRIPTION:ANNE OF GREEN GABLES–TULARE  When aging siblings reach out to an orphanage for a boy to help them on the farm\, they get more than they bargained for. Due to a mix up\, they are left with little Anne Shirley! Tickets: $18–$20. 2 p.m. Encore Theatre Company\, 324 S. N Street\, Tulare. 686-1300
URL:https://ccparent.com/calendar-event/anne-of-green-gables-tulare-3/
LOCATION:Encore Theatre Company\, 324 S. N Street\, Tulare
END:VEVENT
BEGIN:VEVENT
DTSTART;TZID=America/Los_Angeles:20240204T140000
DTEND;TZID=America/Los_Angeles:20240204T140000
DTSTAMP:20260422T032000
CREATED:20240131T060048Z
LAST-MODIFIED:20240202T044742Z
UID:72033-1707055200-1707055200@ccparent.com
SUMMARY:Shen Yun
DESCRIPTION:SHEN YUN Dust off your memory of a more compassionate world\, and experience China before communism. Combining the expressivity and athleticism of classical Chinese dance with an East-West live orchestra and innovative backdrops\, Shen Yun is a breakthrough in performing arts. Tickets: $86–$106. 2 p.m. William Saroyan Theatre\, 730 M Street\, Fresno. 445-8100
URL:https://ccparent.com/calendar-event/shen-yun-7/
LOCATION:William Saroyan Theatre\, 730 M. Street\, Fresno\, CA\, United States
END:VEVENT
BEGIN:VEVENT
DTSTART;TZID=America/Los_Angeles:20240204T140000
DTEND;TZID=America/Los_Angeles:20240204T140000
DTSTAMP:20260422T032000
CREATED:20240202T044757Z
LAST-MODIFIED:20240202T044757Z
UID:72123-1707055200-1707055200@ccparent.com
SUMMARY:Amadeus
DESCRIPTION:Hailed as Peter Shaffer’s greatest play\, Amadeus is the brilliant dramatization of two real-life composers Antonio Salieri and Wolfgang Amadeus Mozart. Salieri is respected\, successful\, and royally sanctioned while Mozart is a foul-mouthed\, graceless oaf who has one thing beyond Salieri’s envious grasp: Genius. Rated PG-13. Tickets: $8–$25. 2 p.m. 2nd Space Theatre\, 928 E. Olive\, Avenue\, Fresno. 266-0660
URL:https://ccparent.com/calendar-event/amadeus-4/
LOCATION:2nd Space Theatre\, 928 E. Olive\, Fresno\, CA\, United States
END:VEVENT
BEGIN:VEVENT
DTSTART;TZID=America/Los_Angeles:20240204T140000
DTEND;TZID=America/Los_Angeles:20240204T160000
DTSTAMP:20260422T032000
CREATED:20240131T060042Z
LAST-MODIFIED:20240202T044742Z
UID:72032-1707055200-1707062400@ccparent.com
SUMMARY:Michaels Crafts
DESCRIPTION:MICHAELS CRAFTS Head to Michaels to make a Valentine’s Day Card for free! 2–4 p.m. Contact your local Michaels for more information. 353-3201 or 324-8725
URL:https://ccparent.com/calendar-event/michaels-crafts-22/
LOCATION:CA
END:VEVENT
END:VCALENDAR